Workbook
Name Kippulisti: x!$F$2:$F$39

Sheet Valblað fyrir kippur
A1: Kippur á opinni braut
A3: LEIÐBEININGAR
A4: 1 | B4: Vistaðu þetta skjal áður en þú fyllir það út.
A5: 2 | B5: Veldu þrjár mismunandi kippur af lista. Hver kippa er þrír áfangar, samtals 15 einingar.
A6: 3 | B6: Að minnsta kosti 5 einingar í hverri kippu þurfa að vera á þriðja þrepi.
A7: 4 | B7: Sami áfangi má ekki vera í fleiri en einni kippu og ekki vera hluti af kjarna brautarinnar.
A8: 5 | B8: Athugaðu forkröfur áður en þú raðar áföngum á annir. Skráðu þær í námsferilsplanið fyrir kippurnar.
A9: 6 | B9: Skráðu á hvaða önn þú hyggst ljúka hverjum áfanga.
A10: 7 | B10: Ef forkröfur, framboð eða aðstæður breytast skaltu endurskoða planið.
A12: MÍNAR KIPPUR
A13: Smellið í reitinn fyrir lýsandi heiti, þá birtist fellilisti fyrir kippur sem eru samþykktar. Áfangarnir í hverri kippu birtast sjálfkrafa.
A14: Kippa | B14: Lýsandi heiti | C14: Áfangi 1 | D14: Áfangi 2 | E14: Áfangi 3
A15: 1 | C15: =IF($B15="","",_xlfn.XLOOKUP($B15,x!$F$2:$F$39,x!$G$2:$G$39,"")) | D15: =IF($B15="","",_xlfn.XLOOKUP($B15,x!$F$2:$F$39,x!$H$2:$H$39,"")) | E15: =IF($B15="","",_xlfn.XLOOKUP($B15,x!$F$2:$F$39,x!$I$2:$I$39,""))
A16: 2 | C16: =IF($B16="","",_xlfn.XLOOKUP($B16,x!$F$2:$F$39,x!$G$2:$G$39,"")) | D16: =IF($B16="","",_xlfn.XLOOKUP($B16,x!$F$2:$F$39,x!$H$2:$H$39,"")) | E16: =IF($B16="","",_xlfn.XLOOKUP($B16,x!$F$2:$F$39,x!$I$2:$I$39,""))
A17: 3 | C17: =IF($B17="","",_xlfn.XLOOKUP($B17,x!$F$2:$F$39,x!$G$2:$G$39,"")) | D17: =IF($B17="","",_xlfn.XLOOKUP($B17,x!$F$2:$F$39,x!$H$2:$H$39,"")) | E17: =IF($B17="","",_xlfn.XLOOKUP($B17,x!$F$2:$F$39,x!$I$2:$I$39,""))
A18: =IFERROR("⚠ Sami áfangi er í fleiri en einni kippu: "&_xlfn.TEXTJOIN(", ",TRUE,_xlfn._xlws.FILTER(x!$N$2:$N$47,x!$O$2:$O$47)),"")
A19: =IFERROR("⚠ Athugaðu hvort sami áfangi sé valinn í fleiri en einni kippu: "&_xlfn.TEXTJOIN(", ",TRUE,_xlfn._xlws.FILTER(x!$P$2:$P$14,x!$Q$2:$Q$14)),"")
A21: NÁMSFERILPLAN FYRIR KIPPUR
A22: Skráðu fyrirhugaða önn, forkröfur og stöðu fyrir þá þrjá áfanga sem þú ætlar að taka í hverri kippu, samtals alla níu áfangana.
A23: Kippa og röð | B23: Áfangaheiti | C23: Áætluð önn | D23: Forkröfur | E23: Staða
A24: Kippa 1 – áfangi 1
A25: Kippa 1 – áfangi 2
A26: Kippa 1 – áfangi 3
A27: Kippa 2 – áfangi 1
A28: Kippa 2 – áfangi 2
A29: Kippa 2 – áfangi 3
A30: Kippa 3 – áfangi 1
A31: Kippa 3 – áfangi 2
A32: Kippa 3 – áfangi 3

Sheet x
A1: FÉLAGSVÍSINDI | F1: Kippuval | N1: Áfangi | O1: Tvítekinn milli kippa | P1: XX áfangi | Q1: Í fleiri en einni kippu
A2: Lýsandi heiti | B2: Áfangi 1 | C2: Áfangi 2 | D2: Áfangi 3 | F2: Fjölmiðlafræði og saga | G2: FJÖL2BA05 | H2: SAGA2XX05 | I2: SAGA3XX05 eða FJÖL3CA05 | N2: FJÖL2BA05 | O2: =(--ISNUMBER(SEARCH(N2,_xlfn.TEXTJOIN("/",TRUE,'Valblað fyrir kippur'!$C$15:$E$15)))+--ISNUMBER(SEARCH(N2,_xlfn.TEXTJOIN("/",TRUE,'Valblað fyrir kippur'!$C$16:$E$16)))+--ISNUMBER(SEARCH(N2,_xlfn.TEXTJOIN("/",TRUE,'Valblað fyrir kippur'!$C$17:$E$17))))>1 -> FALSE | P2: SAGA2XX05 | Q2: =(--ISNUMBER(SEARCH(P2,_xlfn.TEXTJOIN("/",TRUE,'Valblað fyrir kippur'!$C$15:$E$15)))+--ISNUMBER(SEARCH(P2,_xlfn.TEXTJOIN("/",TRUE,'Valblað fyrir kippur'!$C$16:$E$16)))+--ISNUMBER(SEARCH(P2,_xlfn.TEXTJOIN("/",TRUE,'Valblað fyrir kippur'!$C$17:$E$17))))>1 -> FALSE
A3: Fjölmiðlafræði og saga | B3: FJÖL2BA05 | C3: SAGA2XX05 | D3: SAGA3XX05 eða FJÖL3CA05 | F3: Fjölmiðlafræði og félagsfræði | G3: FJÖL2BA05 | H3: FÉLA2XX05 | I3: FÉLA3XX05 eða FJÖL3CA05 | N3: FJÖL3CA05 | O3: =(--ISNUMBER(SEARCH(N3,_xlfn.TEXTJOIN("/",TRUE,'Valblað fyrir kippur'!$C$15:$E$15)))+--ISNUMBER(SEARCH(N3,_xlfn.TEXTJOIN("/",TRUE,'Valblað fyrir kippur'!$C$16:$E$16)))+--ISNUMBER(SEARCH(N3,_xlfn.TEXTJOIN("/",TRUE,'Valblað fyrir kippur'!$C$17:$E$17))))>1 -> FALSE | P3: SAGA3XX05 | Q3: =(--ISNUMBER(SEARCH(P3,_xlfn.TEXTJOIN("/",TRUE,'Valblað fyrir kippur'!$C$15:$E$15)))+--ISNUMBER(SEARCH(P3,_xlfn.TEXTJOIN("/",TRUE,'Valblað fyrir kippur'!$C$16:$E$16)))+--ISNUMBER(SEARCH(P3,_xlfn.TEXTJOIN("/",TRUE,'Valblað fyrir kippur'!$C$17:$E$17))))>1 -> FALSE
A4: Fjölmiðlafræði og félagsfræði | B4: FJÖL2BA05 | C4: FÉLA2XX05 | D4: FÉLA3XX05 eða FJÖL3CA05 | F4: Afbrotafræði 1 | G4: FJÖL2BA05 | H4: SÁLF2BA05 | I4: FÉLA3CC05 | N4: SÁLF2BA05 | O4: =(--ISNUMBER(SEARCH(N4,_xlfn.TEXTJOIN("/",TRUE,'Valblað fyrir kippur'!$C$15:$E$15)))+--ISNUMBER(SEARCH(N4,_xlfn.TEXTJOIN("/",TRUE,'Valblað fyrir kippur'!$C$16:$E$16)))+--ISNUMBER(SEARCH(N4,_xlfn.TEXTJOIN("/",TRUE,'Valblað fyrir kippur'!$C$17:$E$17))))>1 -> FALSE | P4: FÉLA2XX05 | Q4: =(--ISNUMBER(SEARCH(P4,_xlfn.TEXTJOIN("/",TRUE,'Valblað fyrir kippur'!$C$15:$E$15)))+--ISNUMBER(SEARCH(P4,_xlfn.TEXTJOIN("/",TRUE,'Valblað fyrir kippur'!$C$16:$E$16)))+--ISNUMBER(SEARCH(P4,_xlfn.TEXTJOIN("/",TRUE,'Valblað fyrir kippur'!$C$17:$E$17))))>1 -> FALSE
A5: Afbrotafræði 1 | B5: FJÖL2BA05 | C5: SÁLF2BA05 | D5: FÉLA3CC05 | F5: Afbrotafræði 2 | G5: SÁLF2BA05 | H5: SÁLF3CA05 | I5: FÉLA3CC05 | N5: FÉLA3CC05 | O5: =(--ISNUMBER(SEARCH(N5,_xlfn.TEXTJOIN("/",TRUE,'Valblað fyrir kippur'!$C$15:$E$15)))+--ISNUMBER(SEARCH(N5,_xlfn.TEXTJOIN("/",TRUE,'Valblað fyrir kippur'!$C$16:$E$16)))+--ISNUMBER(SEARCH(N5,_xlfn.TEXTJOIN("/",TRUE,'Valblað fyrir kippur'!$C$17:$E$17))))>1 -> FALSE | P5: FÉLA3XX05 | Q5: =(--ISNUMBER(SEARCH(P5,_xlfn.TEXTJOIN("/",TRUE,'Valblað fyrir kippur'!$C$15:$E$15)))+--ISNUMBER(SEARCH(P5,_xlfn.TEXTJOIN("/",TRUE,'Valblað fyrir kippur'!$C$16:$E$16)))+--ISNUMBER(SEARCH(P5,_xlfn.TEXTJOIN("/",TRUE,'Valblað fyrir kippur'!$C$17:$E$17))))>1 -> FALSE
A6: Afbrotafræði 2 | B6: SÁLF2BA05 | C6: SÁLF3CA05 | D6: FÉLA3CC05 | F6: Heilsusálfræði | G6: SÁLF2BA05 | H6: NÆRI2BA05 | I6: SÁLF3CB05 | N6: SÁLF3CA05 | O6: =(--ISNUMBER(SEARCH(N6,_xlfn.TEXTJOIN("/",TRUE,'Valblað fyrir kippur'!$C$15:$E$15)))+--ISNUMBER(SEARCH(N6,_xlfn.TEXTJOIN("/",TRUE,'Valblað fyrir kippur'!$C$16:$E$16)))+--ISNUMBER(SEARCH(N6,_xlfn.TEXTJOIN("/",TRUE,'Valblað fyrir kippur'!$C$17:$E$17))))>1 -> FALSE | P6: SÁLF2XX05 | Q6: =(--ISNUMBER(SEARCH(P6,_xlfn.TEXTJOIN("/",TRUE,'Valblað fyrir kippur'!$C$15:$E$15)))+--ISNUMBER(SEARCH(P6,_xlfn.TEXTJOIN("/",TRUE,'Valblað fyrir kippur'!$C$16:$E$16)))+--ISNUMBER(SEARCH(P6,_xlfn.TEXTJOIN("/",TRUE,'Valblað fyrir kippur'!$C$17:$E$17))))>1 -> FALSE
A7: Heilsusálfræði | B7: SÁLF2BA05 | C7: NÆRI2BA05 | D7: SÁLF3CB05 | F7: Sálfræði | G7: SÁLF2BA05 | H7: SÁLF2XX05 eða SÁLF3XX05 | I7: SÁLF3XX05 | N7: NÆRI2BA05 | O7: =(--ISNUMBER(SEARCH(N7,_xlfn.TEXTJOIN("/",TRUE,'Valblað fyrir kippur'!$C$15:$E$15)))+--ISNUMBER(SEARCH(N7,_xlfn.TEXTJOIN("/",TRUE,'Valblað fyrir kippur'!$C$16:$E$16)))+--ISNUMBER(SEARCH(N7,_xlfn.TEXTJOIN("/",TRUE,'Valblað fyrir kippur'!$C$17:$E$17))))>1 -> FALSE | P7: SÁLF3XX05 | Q7: =(--ISNUMBER(SEARCH(P7,_xlfn.TEXTJOIN("/",TRUE,'Valblað fyrir kippur'!$C$15:$E$15)))+--ISNUMBER(SEARCH(P7,_xlfn.TEXTJOIN("/",TRUE,'Valblað fyrir kippur'!$C$16:$E$16)))+--ISNUMBER(SEARCH(P7,_xlfn.TEXTJOIN("/",TRUE,'Valblað fyrir kippur'!$C$17:$E$17))))>1 -> FALSE
A8: Sálfræði | B8: SÁLF2BA05 | C8: SÁLF2XX05 eða SÁLF3XX05 | D8: SÁLF3XX05 | F8: Saga | G8: SAGA2XX05 | H8: SAGA2XX05 eða SAGA3XX05 | I8: SAGA3XX05 | N8: SÁLF3CB05 | O8: =(--ISNUMBER(SEARCH(N8,_xlfn.TEXTJOIN("/",TRUE,'Valblað fyrir kippur'!$C$15:$E$15)))+--ISNUMBER(SEARCH(N8,_xlfn.TEXTJOIN("/",TRUE,'Valblað fyrir kippur'!$C$16:$E$16)))+--ISNUMBER(SEARCH(N8,_xlfn.TEXTJOIN("/",TRUE,'Valblað fyrir kippur'!$C$17:$E$17))))>1 -> FALSE | P8: JARÐ3XX05 | Q8: =(--ISNUMBER(SEARCH(P8,_xlfn.TEXTJOIN("/",TRUE,'Valblað fyrir kippur'!$C$15:$E$15)))+--ISNUMBER(SEARCH(P8,_xlfn.TEXTJOIN("/",TRUE,'Valblað fyrir kippur'!$C$16:$E$16)))+--ISNUMBER(SEARCH(P8,_xlfn.TEXTJOIN("/",TRUE,'Valblað fyrir kippur'!$C$17:$E$17))))>1 -> FALSE
A9: Saga | B9: SAGA2XX05 | C9: SAGA2XX05 eða SAGA3XX05 | D9: SAGA3XX05 | F9: Félagsfræði | G9: FÉLA2XX05 | H9: FÉLA2XX05 eða FÉLA3XX05 | I9: FÉLA3XX05 eða KYNJ3CA05 | N9: KYNJ3CA05 | O9: =(--ISNUMBER(SEARCH(N9,_xlfn.TEXTJOIN("/",TRUE,'Valblað fyrir kippur'!$C$15:$E$15)))+--ISNUMBER(SEARCH(N9,_xlfn.TEXTJOIN("/",TRUE,'Valblað fyrir kippur'!$C$16:$E$16)))+--ISNUMBER(SEARCH(N9,_xlfn.TEXTJOIN("/",TRUE,'Valblað fyrir kippur'!$C$17:$E$17))))>1 -> FALSE | P9: EFNA3XX05 | Q9: =(--ISNUMBER(SEARCH(P9,_xlfn.TEXTJOIN("/",TRUE,'Valblað fyrir kippur'!$C$15:$E$15)))+--ISNUMBER(SEARCH(P9,_xlfn.TEXTJOIN("/",TRUE,'Valblað fyrir kippur'!$C$16:$E$16)))+--ISNUMBER(SEARCH(P9,_xlfn.TEXTJOIN("/",TRUE,'Valblað fyrir kippur'!$C$17:$E$17))))>1 -> FALSE
A10: Félagsfræði | B10: FÉLA2XX05 | C10: FÉLA2XX05 eða FÉLA3XX05 | D10: FÉLA3XX05 eða KYNJ3CA05 | F10: Eðlisfræði | G10: EÐLI2BA05 | H10: EÐLI2BB05 | I10: EÐLI3CA05 | N10: EÐLI2BA05 | O10: =(--ISNUMBER(SEARCH(N10,_xlfn.TEXTJOIN("/",TRUE,'Valblað fyrir kippur'!$C$15:$E$15)))+--ISNUMBER(SEARCH(N10,_xlfn.TEXTJOIN("/",TRUE,'Valblað fyrir kippur'!$C$16:$E$16)))+--ISNUMBER(SEARCH(N10,_xlfn.TEXTJOIN("/",TRUE,'Valblað fyrir kippur'!$C$17:$E$17))))>1 -> FALSE | P10: LÍFF3XX05 | Q10: =(--ISNUMBER(SEARCH(P10,_xlfn.TEXTJOIN("/",TRUE,'Valblað fyrir kippur'!$C$15:$E$15)))+--ISNUMBER(SEARCH(P10,_xlfn.TEXTJOIN("/",TRUE,'Valblað fyrir kippur'!$C$16:$E$16)))+--ISNUMBER(SEARCH(P10,_xlfn.TEXTJOIN("/",TRUE,'Valblað fyrir kippur'!$C$17:$E$17))))>1 -> FALSE
F11: Jarðeðlisfræði | G11: EÐLI2BA05 | H11: JARÐ2BA05 | I11: JARÐ3XX05 eða EÐLI3CA05 | N11: EÐLI2BB05 | O11: =(--ISNUMBER(SEARCH(N11,_xlfn.TEXTJOIN("/",TRUE,'Valblað fyrir kippur'!$C$15:$E$15)))+--ISNUMBER(SEARCH(N11,_xlfn.TEXTJOIN("/",TRUE,'Valblað fyrir kippur'!$C$16:$E$16)))+--ISNUMBER(SEARCH(N11,_xlfn.TEXTJOIN("/",TRUE,'Valblað fyrir kippur'!$C$17:$E$17))))>1 -> FALSE | P11: STÆR3XX05 | Q11: =(--ISNUMBER(SEARCH(P11,_xlfn.TEXTJOIN("/",TRUE,'Valblað fyrir kippur'!$C$15:$E$15)))+--ISNUMBER(SEARCH(P11,_xlfn.TEXTJOIN("/",TRUE,'Valblað fyrir kippur'!$C$16:$E$16)))+--ISNUMBER(SEARCH(P11,_xlfn.TEXTJOIN("/",TRUE,'Valblað fyrir kippur'!$C$17:$E$17))))>1 -> FALSE
F12: Efnafræði | G12: EFNA2BA05 | H12: EFNA2BB05 | I12: EFNA3XX05 | N12: EÐLI3CA05 | O12: =(--ISNUMBER(SEARCH(N12,_xlfn.TEXTJOIN("/",TRUE,'Valblað fyrir kippur'!$C$15:$E$15)))+--ISNUMBER(SEARCH(N12,_xlfn.TEXTJOIN("/",TRUE,'Valblað fyrir kippur'!$C$16:$E$16)))+--ISNUMBER(SEARCH(N12,_xlfn.TEXTJOIN("/",TRUE,'Valblað fyrir kippur'!$C$17:$E$17))))>1 -> FALSE | P12: ENSK3XX05 | Q12: =(--ISNUMBER(SEARCH(P12,_xlfn.TEXTJOIN("/",TRUE,'Valblað fyrir kippur'!$C$15:$E$15)))+--ISNUMBER(SEARCH(P12,_xlfn.TEXTJOIN("/",TRUE,'Valblað fyrir kippur'!$C$16:$E$16)))+--ISNUMBER(SEARCH(P12,_xlfn.TEXTJOIN("/",TRUE,'Valblað fyrir kippur'!$C$17:$E$17))))>1 -> FALSE
A13: RAUNGREINAR OG HEILSA | F13: Jarðefnafræði | G13: EFNA2BA05 | H13: JARÐ2BA05 | I13: JARÐ3XX05 eða EFNA3CA05 | N13: JARÐ2BA05 | O13: =(--ISNUMBER(SEARCH(N13,_xlfn.TEXTJOIN("/",TRUE,'Valblað fyrir kippur'!$C$15:$E$15)))+--ISNUMBER(SEARCH(N13,_xlfn.TEXTJOIN("/",TRUE,'Valblað fyrir kippur'!$C$16:$E$16)))+--ISNUMBER(SEARCH(N13,_xlfn.TEXTJOIN("/",TRUE,'Valblað fyrir kippur'!$C$17:$E$17))))>1 -> FALSE | P13: SPÆN2XX05 | Q13: =(--ISNUMBER(SEARCH(P13,_xlfn.TEXTJOIN("/",TRUE,'Valblað fyrir kippur'!$C$15:$E$15)))+--ISNUMBER(SEARCH(P13,_xlfn.TEXTJOIN("/",TRUE,'Valblað fyrir kippur'!$C$16:$E$16)))+--ISNUMBER(SEARCH(P13,_xlfn.TEXTJOIN("/",TRUE,'Valblað fyrir kippur'!$C$17:$E$17))))>1 -> FALSE
A14: Lýsandi heiti | B14: Áfangi 1 | C14: Áfangi 2 | D14: Áfangi 3 | F14: Jarðfræði | G14: JARÐ2BA05 | H14: JARÐ3CA05 | I14: JARÐ3CB05 | N14: EFNA2BA05 | O14: =(--ISNUMBER(SEARCH(N14,_xlfn.TEXTJOIN("/",TRUE,'Valblað fyrir kippur'!$C$15:$E$15)))+--ISNUMBER(SEARCH(N14,_xlfn.TEXTJOIN("/",TRUE,'Valblað fyrir kippur'!$C$16:$E$16)))+--ISNUMBER(SEARCH(N14,_xlfn.TEXTJOIN("/",TRUE,'Valblað fyrir kippur'!$C$17:$E$17))))>1 -> FALSE | P14: ÞÝSK2XX05 | Q14: =(--ISNUMBER(SEARCH(P14,_xlfn.TEXTJOIN("/",TRUE,'Valblað fyrir kippur'!$C$15:$E$15)))+--ISNUMBER(SEARCH(P14,_xlfn.TEXTJOIN("/",TRUE,'Valblað fyrir kippur'!$C$16:$E$16)))+--ISNUMBER(SEARCH(P14,_xlfn.TEXTJOIN("/",TRUE,'Valblað fyrir kippur'!$C$17:$E$17))))>1 -> FALSE
A15: Eðlisfræði | B15: EÐLI2BA05 | C15: EÐLI2BB05 | D15: EÐLI3CA05 | F15: Jörðin og lífríkið | G15: JARÐ2BA05 | H15: LÍFF2BB05 | I15: JARÐ3CA05 | N15: EFNA2BB05 | O15: =(--ISNUMBER(SEARCH(N15,_xlfn.TEXTJOIN("/",TRUE,'Valblað fyrir kippur'!$C$15:$E$15)))+--ISNUMBER(SEARCH(N15,_xlfn.TEXTJOIN("/",TRUE,'Valblað fyrir kippur'!$C$16:$E$16)))+--ISNUMBER(SEARCH(N15,_xlfn.TEXTJOIN("/",TRUE,'Valblað fyrir kippur'!$C$17:$E$17))))>1 -> FALSE
A16: Jarðeðlisfræði | B16: EÐLI2BA05 | C16: JARÐ2BA05 | D16: JARÐ3XX05 eða EÐLI3CA05 | F16: Ferðafræði Íslands | G16: JARÐ2BA05 | H16: FERÐ2BA05 | I16: JARÐ3CA05 | N16: EFNA3CA05 | O16: =(--ISNUMBER(SEARCH(N16,_xlfn.TEXTJOIN("/",TRUE,'Valblað fyrir kippur'!$C$15:$E$15)))+--ISNUMBER(SEARCH(N16,_xlfn.TEXTJOIN("/",TRUE,'Valblað fyrir kippur'!$C$16:$E$16)))+--ISNUMBER(SEARCH(N16,_xlfn.TEXTJOIN("/",TRUE,'Valblað fyrir kippur'!$C$17:$E$17))))>1 -> FALSE
A17: Efnafræði | B17: EFNA2BA05 | C17: EFNA2BB05 | D17: EFNA3XX05 | F17: Líffræði | G17: LÍFF2BA05 | H17: LÍFF2BB05 | I17: LÍFF3XX05 | N17: JARÐ3CA05 | O17: =(--ISNUMBER(SEARCH(N17,_xlfn.TEXTJOIN("/",TRUE,'Valblað fyrir kippur'!$C$15:$E$15)))+--ISNUMBER(SEARCH(N17,_xlfn.TEXTJOIN("/",TRUE,'Valblað fyrir kippur'!$C$16:$E$16)))+--ISNUMBER(SEARCH(N17,_xlfn.TEXTJOIN("/",TRUE,'Valblað fyrir kippur'!$C$17:$E$17))))>1 -> FALSE
A18: Jarðefnafræði | B18: EFNA2BA05 | C18: JARÐ2BA05 | D18: JARÐ3XX05 eða EFNA3CA05 | F18: Mannslíkaminn | G18: LÍFF2BA05 | H18: LÍFF3CA05 | I18: LÍFF3XX05 | N18: JARÐ3CB05 | O18: =(--ISNUMBER(SEARCH(N18,_xlfn.TEXTJOIN("/",TRUE,'Valblað fyrir kippur'!$C$15:$E$15)))+--ISNUMBER(SEARCH(N18,_xlfn.TEXTJOIN("/",TRUE,'Valblað fyrir kippur'!$C$16:$E$16)))+--ISNUMBER(SEARCH(N18,_xlfn.TEXTJOIN("/",TRUE,'Valblað fyrir kippur'!$C$17:$E$17))))>1 -> FALSE
A19: Jarðfræði | B19: JARÐ2BA05 | C19: JARÐ3CA05 | D19: JARÐ3CB05 | F19: Heilsa | G19: LÍFF2BA05 | H19: NÆRI2BA05 | I19: LÍFF3CB05 eða LÍFF3CC05 | N19: LÍFF2BB05 | O19: =(--ISNUMBER(SEARCH(N19,_xlfn.TEXTJOIN("/",TRUE,'Valblað fyrir kippur'!$C$15:$E$15)))+--ISNUMBER(SEARCH(N19,_xlfn.TEXTJOIN("/",TRUE,'Valblað fyrir kippur'!$C$16:$E$16)))+--ISNUMBER(SEARCH(N19,_xlfn.TEXTJOIN("/",TRUE,'Valblað fyrir kippur'!$C$17:$E$17))))>1 -> FALSE
A20: Jörðin og lífríkið | B20: JARÐ2BA05 | C20: LÍFF2BB05 | D20: JARÐ3CA05 | F20: Lýðheilsa | G20: LÍFF2BA05 | H20: NÆRI2BA05 | I20: SÁLF3CB05 | N20: FERÐ2BA05 | O20: =(--ISNUMBER(SEARCH(N20,_xlfn.TEXTJOIN("/",TRUE,'Valblað fyrir kippur'!$C$15:$E$15)))+--ISNUMBER(SEARCH(N20,_xlfn.TEXTJOIN("/",TRUE,'Valblað fyrir kippur'!$C$16:$E$16)))+--ISNUMBER(SEARCH(N20,_xlfn.TEXTJOIN("/",TRUE,'Valblað fyrir kippur'!$C$17:$E$17))))>1 -> FALSE
A21: Ferðafræði Íslands | B21: JARÐ2BA05 | C21: FERÐ2BA05 | D21: JARÐ3CA05 | F21: Aðgangsviðmið í sálfræði | G21: SÁLF3CA05 | H21: STÆR3CA05 | I21: LÍFF3CB05 eða LÍFF3CC05 | N21: LÍFF2BA05 | O21: =(--ISNUMBER(SEARCH(N21,_xlfn.TEXTJOIN("/",TRUE,'Valblað fyrir kippur'!$C$15:$E$15)))+--ISNUMBER(SEARCH(N21,_xlfn.TEXTJOIN("/",TRUE,'Valblað fyrir kippur'!$C$16:$E$16)))+--ISNUMBER(SEARCH(N21,_xlfn.TEXTJOIN("/",TRUE,'Valblað fyrir kippur'!$C$17:$E$17))))>1 -> FALSE
A22: Líffræði | B22: LÍFF2BA05 | C22: LÍFF2BB05 | D22: LÍFF3XX05 | F22: Stærðfræði | G22: STÆR3XX05 | H22: STÆR3XX05 | I22: STÆR3XX05 | N22: LÍFF3CA05 | O22: =(--ISNUMBER(SEARCH(N22,_xlfn.TEXTJOIN("/",TRUE,'Valblað fyrir kippur'!$C$15:$E$15)))+--ISNUMBER(SEARCH(N22,_xlfn.TEXTJOIN("/",TRUE,'Valblað fyrir kippur'!$C$16:$E$16)))+--ISNUMBER(SEARCH(N22,_xlfn.TEXTJOIN("/",TRUE,'Valblað fyrir kippur'!$C$17:$E$17))))>1 -> FALSE
A23: Mannslíkaminn | B23: LÍFF2BA05 | C23: LÍFF3CA05 | D23: LÍFF3XX05 | F23: Hornaföll, deildun og heildun | G23: STÆR2BD05 | H23: STÆR3CB05 | I23: STÆR3CC05 eða STÆR3CE05 | N23: LÍFF3CB05 | O23: =(--ISNUMBER(SEARCH(N23,_xlfn.TEXTJOIN("/",TRUE,'Valblað fyrir kippur'!$C$15:$E$15)))+--ISNUMBER(SEARCH(N23,_xlfn.TEXTJOIN("/",TRUE,'Valblað fyrir kippur'!$C$16:$E$16)))+--ISNUMBER(SEARCH(N23,_xlfn.TEXTJOIN("/",TRUE,'Valblað fyrir kippur'!$C$17:$E$17))))>1 -> FALSE
A24: Heilsa | B24: LÍFF2BA05 | C24: NÆRI2BA05 | D24: LÍFF3CB05 eða LÍFF3CC05 | F24: Bókfærsla | G24: BÓKF1AA05 | H24: BÓKF2BA05 | I24: BÓKF3CA05 | N24: LÍFF3CC05 | O24: =(--ISNUMBER(SEARCH(N24,_xlfn.TEXTJOIN("/",TRUE,'Valblað fyrir kippur'!$C$15:$E$15)))+--ISNUMBER(SEARCH(N24,_xlfn.TEXTJOIN("/",TRUE,'Valblað fyrir kippur'!$C$16:$E$16)))+--ISNUMBER(SEARCH(N24,_xlfn.TEXTJOIN("/",TRUE,'Valblað fyrir kippur'!$C$17:$E$17))))>1 -> FALSE
A25: Lýðheilsa | B25: LÍFF2BA05 | C25: NÆRI2BA05 | D25: SÁLF3CB05 | F25: Rekstrarfræði | G25: BÓKF1AA05 | H25: REKS2BA05 | I25: FJÁF3CA05 | N25: STÆR3CA05 | O25: =(--ISNUMBER(SEARCH(N25,_xlfn.TEXTJOIN("/",TRUE,'Valblað fyrir kippur'!$C$15:$E$15)))+--ISNUMBER(SEARCH(N25,_xlfn.TEXTJOIN("/",TRUE,'Valblað fyrir kippur'!$C$16:$E$16)))+--ISNUMBER(SEARCH(N25,_xlfn.TEXTJOIN("/",TRUE,'Valblað fyrir kippur'!$C$17:$E$17))))>1 -> FALSE
A26: Aðgangsviðmið í sálfræði | B26: SÁLF3CA05 | C26: STÆR3CA05 | D26: LÍFF3CB05 eða LÍFF3CC05 | F26: Fjármál | G26: REKS2BA05 | H26: ÞJÓÐ2BA05 | I26: FJÁF3CA05 | N26: STÆR2BD05 | O26: =(--ISNUMBER(SEARCH(N26,_xlfn.TEXTJOIN("/",TRUE,'Valblað fyrir kippur'!$C$15:$E$15)))+--ISNUMBER(SEARCH(N26,_xlfn.TEXTJOIN("/",TRUE,'Valblað fyrir kippur'!$C$16:$E$16)))+--ISNUMBER(SEARCH(N26,_xlfn.TEXTJOIN("/",TRUE,'Valblað fyrir kippur'!$C$17:$E$17))))>1 -> FALSE
F27: Hagfræði | G27: REKS2BA05 | H27: ÞJÓÐ2BA05 | I27: REKS3CA05 eða ÞJÓÐ3CA05 | N27: STÆR3CB05 | O27: =(--ISNUMBER(SEARCH(N27,_xlfn.TEXTJOIN("/",TRUE,'Valblað fyrir kippur'!$C$15:$E$15)))+--ISNUMBER(SEARCH(N27,_xlfn.TEXTJOIN("/",TRUE,'Valblað fyrir kippur'!$C$16:$E$16)))+--ISNUMBER(SEARCH(N27,_xlfn.TEXTJOIN("/",TRUE,'Valblað fyrir kippur'!$C$17:$E$17))))>1 -> FALSE
A28: STÆRÐFRÆÐI | F28: Alþjóðaviðskipti | G28: ALÞV2BA05 | H28: MARK2BA05 | I28: MARK3CA05 | N28: STÆR3CC05 | O28: =(--ISNUMBER(SEARCH(N28,_xlfn.TEXTJOIN("/",TRUE,'Valblað fyrir kippur'!$C$15:$E$15)))+--ISNUMBER(SEARCH(N28,_xlfn.TEXTJOIN("/",TRUE,'Valblað fyrir kippur'!$C$16:$E$16)))+--ISNUMBER(SEARCH(N28,_xlfn.TEXTJOIN("/",TRUE,'Valblað fyrir kippur'!$C$17:$E$17))))>1 -> FALSE
A29: Lýsandi heiti | B29: Áfangi 1 | C29: Áfangi 2 | D29: Áfangi 3 | F29: Markaðsfræði | G29: MARK2BA05 | H29: MARK3CA05 | I29: FRUM3CA05 | N29: STÆR3CE05 | O29: =(--ISNUMBER(SEARCH(N29,_xlfn.TEXTJOIN("/",TRUE,'Valblað fyrir kippur'!$C$15:$E$15)))+--ISNUMBER(SEARCH(N29,_xlfn.TEXTJOIN("/",TRUE,'Valblað fyrir kippur'!$C$16:$E$16)))+--ISNUMBER(SEARCH(N29,_xlfn.TEXTJOIN("/",TRUE,'Valblað fyrir kippur'!$C$17:$E$17))))>1 -> FALSE
A30: Stærðfræði | B30: STÆR3XX05 | C30: STÆR3XX05 | D30: STÆR3XX05 | F30: Nýsköpun | G30: MARK2BA05 | H30: STJÓ2BA05 | I30: FRUM3CA05 | N30: BÓKF1AA05 | O30: =(--ISNUMBER(SEARCH(N30,_xlfn.TEXTJOIN("/",TRUE,'Valblað fyrir kippur'!$C$15:$E$15)))+--ISNUMBER(SEARCH(N30,_xlfn.TEXTJOIN("/",TRUE,'Valblað fyrir kippur'!$C$16:$E$16)))+--ISNUMBER(SEARCH(N30,_xlfn.TEXTJOIN("/",TRUE,'Valblað fyrir kippur'!$C$17:$E$17))))>1 -> FALSE
A31: Hornaföll, deildun og heildun | B31: STÆR2BD05 | C31: STÆR3CB05 | D31: STÆR3CC05 eða STÆR3CE05 | F31: Aðgangsviðmið í lögfræði | G31: VLÖG2BA05 | H31: DANS2BB05 | I31: DANS3CA05 | N31: BÓKF2BA05 | O31: =(--ISNUMBER(SEARCH(N31,_xlfn.TEXTJOIN("/",TRUE,'Valblað fyrir kippur'!$C$15:$E$15)))+--ISNUMBER(SEARCH(N31,_xlfn.TEXTJOIN("/",TRUE,'Valblað fyrir kippur'!$C$16:$E$16)))+--ISNUMBER(SEARCH(N31,_xlfn.TEXTJOIN("/",TRUE,'Valblað fyrir kippur'!$C$17:$E$17))))>1 -> FALSE
F32: Danska | G32: DANS2BB05 | H32: DANS3CA05 | I32: ENSK3XX05 | N32: BÓKF3CA05 | O32: =(--ISNUMBER(SEARCH(N32,_xlfn.TEXTJOIN("/",TRUE,'Valblað fyrir kippur'!$C$15:$E$15)))+--ISNUMBER(SEARCH(N32,_xlfn.TEXTJOIN("/",TRUE,'Valblað fyrir kippur'!$C$16:$E$16)))+--ISNUMBER(SEARCH(N32,_xlfn.TEXTJOIN("/",TRUE,'Valblað fyrir kippur'!$C$17:$E$17))))>1 -> FALSE
A33: VIÐSKIPTAGREINAR | F33: Enska | G33: ENSK3XX05 | H33: ENSK3XX05 | I33: ENSK3XX05 | N33: REKS2BA05 | O33: =(--ISNUMBER(SEARCH(N33,_xlfn.TEXTJOIN("/",TRUE,'Valblað fyrir kippur'!$C$15:$E$15)))+--ISNUMBER(SEARCH(N33,_xlfn.TEXTJOIN("/",TRUE,'Valblað fyrir kippur'!$C$16:$E$16)))+--ISNUMBER(SEARCH(N33,_xlfn.TEXTJOIN("/",TRUE,'Valblað fyrir kippur'!$C$17:$E$17))))>1 -> FALSE
A34: Lýsandi heiti | B34: Áfangi 1 | C34: Áfangi 2 | D34: Áfangi 3 | F34: Ferðafræði og danska | G34: FERÐ2BA05 | H34: DANS2BB05 eða DANS2FE05 | I34: DANS3CA05 eða FERÐ3CA05 | N34: FJÁF3CA05 | O34: =(--ISNUMBER(SEARCH(N34,_xlfn.TEXTJOIN("/",TRUE,'Valblað fyrir kippur'!$C$15:$E$15)))+--ISNUMBER(SEARCH(N34,_xlfn.TEXTJOIN("/",TRUE,'Valblað fyrir kippur'!$C$16:$E$16)))+--ISNUMBER(SEARCH(N34,_xlfn.TEXTJOIN("/",TRUE,'Valblað fyrir kippur'!$C$17:$E$17))))>1 -> FALSE
A35: Bókfærsla | B35: BÓKF1AA05 | C35: BÓKF2BA05 | D35: BÓKF3CA05 | F35: Ferðafræði og enska | G35: FERÐ2BA05 | H35: FERÐ3CA05 | I35: ENSK3XX05 | N35: ÞJÓÐ2BA05 | O35: =(--ISNUMBER(SEARCH(N35,_xlfn.TEXTJOIN("/",TRUE,'Valblað fyrir kippur'!$C$15:$E$15)))+--ISNUMBER(SEARCH(N35,_xlfn.TEXTJOIN("/",TRUE,'Valblað fyrir kippur'!$C$16:$E$16)))+--ISNUMBER(SEARCH(N35,_xlfn.TEXTJOIN("/",TRUE,'Valblað fyrir kippur'!$C$17:$E$17))))>1 -> FALSE
A36: Rekstrarfræði | B36: BÓKF1AA05 | C36: REKS2BA05 | D36: FJÁF3CA05 | F36: Ferðafræði og spænska | G36: SPÆN2XX05 | H36: FERÐ2BA05 | I36: FERÐ3CA05 | N36: REKS3CA05 | O36: =(--ISNUMBER(SEARCH(N36,_xlfn.TEXTJOIN("/",TRUE,'Valblað fyrir kippur'!$C$15:$E$15)))+--ISNUMBER(SEARCH(N36,_xlfn.TEXTJOIN("/",TRUE,'Valblað fyrir kippur'!$C$16:$E$16)))+--ISNUMBER(SEARCH(N36,_xlfn.TEXTJOIN("/",TRUE,'Valblað fyrir kippur'!$C$17:$E$17))))>1 -> FALSE
A37: Fjármál | B37: REKS2BA05 | C37: ÞJÓÐ2BA05 | D37: FJÁF3CA05 | F37: Ferðafræði og þýska | G37: ÞÝSK2XX05 | H37: FERÐ2BA05 | I37: FERÐ3CA05 | N37: ÞJÓÐ3CA05 | O37: =(--ISNUMBER(SEARCH(N37,_xlfn.TEXTJOIN("/",TRUE,'Valblað fyrir kippur'!$C$15:$E$15)))+--ISNUMBER(SEARCH(N37,_xlfn.TEXTJOIN("/",TRUE,'Valblað fyrir kippur'!$C$16:$E$16)))+--ISNUMBER(SEARCH(N37,_xlfn.TEXTJOIN("/",TRUE,'Valblað fyrir kippur'!$C$17:$E$17))))>1 -> FALSE
A38: Hagfræði | B38: REKS2BA05 | C38: ÞJÓÐ2BA05 | D38: REKS3CA05 eða ÞJÓÐ3CA05 | F38: Markaðssetning ferðaþjónustu | G38: MARK2BA05 | H38: FERÐ2BA05 | I38: FERÐ3CA05 | N38: ALÞV2BA05 | O38: =(--ISNUMBER(SEARCH(N38,_xlfn.TEXTJOIN("/",TRUE,'Valblað fyrir kippur'!$C$15:$E$15)))+--ISNUMBER(SEARCH(N38,_xlfn.TEXTJOIN("/",TRUE,'Valblað fyrir kippur'!$C$16:$E$16)))+--ISNUMBER(SEARCH(N38,_xlfn.TEXTJOIN("/",TRUE,'Valblað fyrir kippur'!$C$17:$E$17))))>1 -> FALSE
A39: Alþjóðaviðskipti | B39: ALÞV2BA05 | C39: MARK2BA05 | D39: MARK3CA05 | F39: Ferðaþjónusta og rekstur | G39: BÓKF1AA05 | H39: FERÐ2BA05 | I39: FERÐ3CA05 | N39: MARK2BA05 | O39: =(--ISNUMBER(SEARCH(N39,_xlfn.TEXTJOIN("/",TRUE,'Valblað fyrir kippur'!$C$15:$E$15)))+--ISNUMBER(SEARCH(N39,_xlfn.TEXTJOIN("/",TRUE,'Valblað fyrir kippur'!$C$16:$E$16)))+--ISNUMBER(SEARCH(N39,_xlfn.TEXTJOIN("/",TRUE,'Valblað fyrir kippur'!$C$17:$E$17))))>1 -> FALSE
A40: Markaðsfræði | B40: MARK2BA05 | C40: MARK3CA05 | D40: FRUM3CA05 | N40: MARK3CA05 | O40: =(--ISNUMBER(SEARCH(N40,_xlfn.TEXTJOIN("/",TRUE,'Valblað fyrir kippur'!$C$15:$E$15)))+--ISNUMBER(SEARCH(N40,_xlfn.TEXTJOIN("/",TRUE,'Valblað fyrir kippur'!$C$16:$E$16)))+--ISNUMBER(SEARCH(N40,_xlfn.TEXTJOIN("/",TRUE,'Valblað fyrir kippur'!$C$17:$E$17))))>1 -> FALSE
...
